BEGIN:VCALENDAR
VERSION:2.0
PRODID:-//A-D-A-Mˢᴹ - ECPv6.15.20//NONSGML v1.0//EN
CALSCALE:GREGORIAN
METHOD:PUBLISH
X-WR-CALNAME:A-D-A-Mˢᴹ
X-ORIGINAL-URL:https://adaminc.org
X-WR-CALDESC:Events for A-D-A-Mˢᴹ
REFRESH-INTERVAL;VALUE=DURATION:PT1H
X-Robots-Tag:noindex
X-PUBLISHED-TTL:PT1H
BEGIN:VTIMEZONE
TZID:America/Chicago
BEGIN:DAYLIGHT
TZOFFSETFROM:-0600
TZOFFSETTO:-0500
TZNAME:CDT
DTSTART:20250309T080000
END:DAYLIGHT
BEGIN:STANDARD
TZOFFSETFROM:-0500
TZOFFSETTO:-0600
TZNAME:CST
DTSTART:20251102T070000
END:STANDARD
BEGIN:DAYLIGHT
TZOFFSETFROM:-0600
TZOFFSETTO:-0500
TZNAME:CDT
DTSTART:20260308T080000
END:DAYLIGHT
BEGIN:STANDARD
TZOFFSETFROM:-0500
TZOFFSETTO:-0600
TZNAME:CST
DTSTART:20261101T070000
END:STANDARD
BEGIN:DAYLIGHT
TZOFFSETFROM:-0600
TZOFFSETTO:-0500
TZNAME:CDT
DTSTART:20270314T080000
END:DAYLIGHT
BEGIN:STANDARD
TZOFFSETFROM:-0500
TZOFFSETTO:-0600
TZNAME:CST
DTSTART:20271107T070000
END:STANDARD
END:VTIMEZONE
BEGIN:VEVENT
DTSTART;VALUE=DATE:20260426
DTEND;VALUE=DATE:20260429
DTSTAMP:20260421T043425
CREATED:20260201T222525Z
LAST-MODIFIED:20260319T180128Z
UID:17483-1777161600-1777420799@adaminc.org
SUMMARY:2026 MACMH's Child & Adolescent Mental Health Conference
DESCRIPTION:SAVE THE DATES! Registration is now open! \nMACMH’s 30th Annual Child & Adolescent Mental Health Conference – 3 Day Virtual Platform on April 26-28\, 2026 \nUpdated 03/19/2026: Minnesota Association for Children’s Mental Health\, also known as MACMH\, was founded in 1989.  The organization is a nonprofit that works “to promote positive mental health for all infants\, children\, adolescents\, and their families”.  They provide a wide variety of services and you can read more about their goals and services on their website. \nYou may go to their website to review the 2026 Conference details which at this time includes: pricing\, CEHs (Up to 18 CEHs). They will continue to post more information as needed. \nRegistration is done online. This is one of the largest conferences of its kind in the country. It is designed for teachers\, therapists\, psychiatrists\, counselors\, social workers\, infant & early childhood professionals\, health care workers\, parents\, and anyone who supports children prenatal to age 24. \nYou will want to check their website frequently for the latest details and any additional updates. \nOnline registration available until April 28\, 2026 \n  \n 
URL:https://adaminc.org/calendar/2026-macmhs-child-adolescent-mental-health-conference/
LOCATION:On Any Device
CATEGORIES:All
ORGANIZER;CN="Minnesota Association for Children's Mental Health (MACMH)":MAILTO:info@macmh.org
END:VEVENT
BEGIN:VEVENT
DTSTART;TZID=America/Chicago:20260428T130000
DTEND;TZID=America/Chicago:20260428T140000
DTSTAMP:20260421T043425
CREATED:20260320T012601Z
LAST-MODIFIED:20260320T012601Z
UID:17897-1777381200-1777384800@adaminc.org
SUMMARY:PACER Center Online Streaming Workshop: Exploring sensory supports beyond fidgets
DESCRIPTION:PACER Center began in 1977 with one program called Parents Helping Parents.  It is a nonprofit organization located in Bloomington\, MN\, and for 49 years its mission has been to educate and support parents and families who have children with disabilities. Today PACER is nationally recognized for its ongoing work and dedicated staff.  They provide a wide variety of services not only to children but to their parents\, siblings\, grandparents\, and other family members.  PACER also has educational information in Hmong\, Spanish\, and Somali.  Their current workshops are all Online Web Streaming and are free.  You must register in advance online and then you will receive directions on how to join the workshop on the day of the event. \nTheir Toll-Free number is 800-537-2237. \nThis workshop will explain a number of sensory tools that help support focus\, regulation\, and comfort through everyday environments. This information can be used at home\, school\, work\, and in the community. Please go to the website listing for the full details about this event. \nIf an ASL interpreter is required please let PACER know at least 48 hours in advance of the event. They will do their best to accommodate your request. \nPlease Note: You may go to PACER’s YouTube Channel to view past recorded trainings – https://www.youtube.com/pacercenter
URL:https://adaminc.org/calendar/pacer-center-online-streaming-workshop-exploring-sensory-supports-beyond-fidgets/
LOCATION:On Any Device
CATEGORIES:All
ORGANIZER;CN="PACER Center":MAILTO:pacer@pacer.org
END:VEVENT
BEGIN:VEVENT
DTSTART;TZID=America/Chicago:20260428T190000
DTEND;TZID=America/Chicago:20260428T203000
DTSTAMP:20260421T043425
CREATED:20260201T001405Z
LAST-MODIFIED:20260201T001405Z
UID:17248-1777402800-1777408200@adaminc.org
SUMMARY:St Cloud NAMI Family Support Group
DESCRIPTION:Updated 02/01/2026 – Please Note: The Family Support Group meetings have changed the meeting format from Zoom to a new program called Hey Peers. This new program is designed for support group meetings to give participants better security and other upgrades. Support group meetings will continue to be via Hey Peers on the 2nd and 4th Tuesday of each month from 7 pm to 8:30 pm and you must register online.  Please go to their website Home page for further details on the change in the format. The NAMI MN website also has more information on the new format. There is a contact person if you have questions.  The support group meetings are open to family members\, caregivers\, and friends of a person living with mental illness – any diagnosis and any age. \nPlease note: This is not a peer support group for people with a mental illness. \nPLEASE NOTE!  If you are interested in attending another online support group\, NAMI Minnesota is continuing to hold online support groups.  For more information on their group meetings\, please go to: https://namimn.org/support/nami-minnesota-support-groups/
URL:https://adaminc.org/calendar/st-cloud-nami-family-support-group-5/
LOCATION:On Any Device
CATEGORIES:Adult (18-60+ years)
ORGANIZER;CN="NAMI St. Cloud - Family Support Group":MAILTO:Email: fsnamistcloud@gmail.com
END:VEVENT
END:VCALENDAR