BEGIN:VCALENDAR
VERSION:2.0
PRODID:-//A-D-A-Mˢᴹ - ECPv6.15.20//NONSGML v1.0//EN
CALSCALE:GREGORIAN
METHOD:PUBLISH
X-WR-CALNAME:A-D-A-Mˢᴹ
X-ORIGINAL-URL:https://adaminc.org
X-WR-CALDESC:Events for A-D-A-Mˢᴹ
REFRESH-INTERVAL;VALUE=DURATION:PT1H
X-Robots-Tag:noindex
X-PUBLISHED-TTL:PT1H
BEGIN:VTIMEZONE
TZID:America/Chicago
BEGIN:DAYLIGHT
TZOFFSETFROM:-0600
TZOFFSETTO:-0500
TZNAME:CDT
DTSTART:20250309T080000
END:DAYLIGHT
BEGIN:STANDARD
TZOFFSETFROM:-0500
TZOFFSETTO:-0600
TZNAME:CST
DTSTART:20251102T070000
END:STANDARD
BEGIN:DAYLIGHT
TZOFFSETFROM:-0600
TZOFFSETTO:-0500
TZNAME:CDT
DTSTART:20260308T080000
END:DAYLIGHT
BEGIN:STANDARD
TZOFFSETFROM:-0500
TZOFFSETTO:-0600
TZNAME:CST
DTSTART:20261101T070000
END:STANDARD
BEGIN:DAYLIGHT
TZOFFSETFROM:-0600
TZOFFSETTO:-0500
TZNAME:CDT
DTSTART:20270314T080000
END:DAYLIGHT
BEGIN:STANDARD
TZOFFSETFROM:-0500
TZOFFSETTO:-0600
TZNAME:CST
DTSTART:20271107T070000
END:STANDARD
END:VTIMEZONE
BEGIN:VEVENT
DTSTART;TZID=America/Chicago:20260513T120000
DTEND;TZID=America/Chicago:20260513T130000
DTSTAMP:20260423T065745
CREATED:20260320T014720Z
LAST-MODIFIED:20260320T014720Z
UID:17908-1778673600-1778677200@adaminc.org
SUMMARY:PACER Center Online Streaming Workshop: Creating a crisis plan for youth with mental health needs
DESCRIPTION:PACER Center began in 1977 with one program called Parents Helping Parents.  It is a nonprofit organization located in Bloomington\, MN\, and for 49 years its mission has been to educate and support parents and families who have children with disabilities. Today PACER is nationally recognized for its ongoing work and dedicated staff.  They provide a wide variety of services not only to children but to their parents\, siblings\, grandparents\, and other family members.  PACER also has educational information in Hmong\, Spanish\, and Somali.  Their current workshops are all Online Web Streaming and are free.  You must register in advance online and then you will receive directions on how to join the workshop on the day of the event. \nTheir Toll-Free number is 800-537-2237. \nStudents who have mental health challenges may have trouble regulating their emotions from time to time or using their problem-solving skills in stressful times. In this workshop participants will learn how to develop a proactive crisis plan with their child that can provide support and information to help decrease the severity of the situation. Please go to the website listing for the full details about this event. \nIf an ASL interpreter is required please let PACER know at least 48 hours in advance of the event. They will do their best to accommodate your request. \nPlease Note: You may go to PACER’s YouTube Channel to view past recorded trainings – https://www.youtube.com/pacercenter
URL:https://adaminc.org/calendar/pacer-center-online-streaming-workshop-creating-a-crisis-plan-for-youth-with-mental-health-needs/
LOCATION:On Any Device
CATEGORIES:All
ORGANIZER;CN="PACER Center":MAILTO:pacer@pacer.org
END:VEVENT
BEGIN:VEVENT
DTSTART;TZID=America/Chicago:20260513T120000
DTEND;TZID=America/Chicago:20260513T133000
DTSTAMP:20260423T065745
CREATED:20260325T200420Z
LAST-MODIFIED:20260414T202720Z
UID:17970-1778673600-1778679000@adaminc.org
SUMMARY:May 2026 ADHD Professional Guides Luncheon (PGL): The Challenges of ADHD in the Sandwich Generation.
DESCRIPTION:Join us for a discussion on managing ADHD challenges in the Sandwich Generation at theMay 2026 ADHD Professional Guides Luncheon. \n\n\n\nAccording to the Merriam-Webster Online Dictionary the Sandwich Generation is defined as “a generation of people who are caring for their aging parents while supporting their own children.” Now let’s add ADHD into the mix at different ages and stages of life. This demographic can face specific challenges when living with ADHD due to the need to care for both younger and older relatives at the same time. \nOur discussion will focus on: \n\nWhat are the stressors faced in this unique family dynamic?\nWhat support systems need to be in place?\nWhat will be the role of professionals in treating this growing ADHD family structure.\n\nPre-Discussion Topic Readings: \n\nThe Sandwich Generation: Burdens on Middle-Aged Americans on the Rise by Bruce Drake (Pew Research Center)\nThe Sandwich Generation and ADHD by CHADD (ADHD Weekly 2017-05-25)\n\nSeating is currently limited to 20 participants and 14 seats remain. Registration must be done online and this is an in-person event. If you register but need to cancel\, you may apply your registration fee towards a future luncheon for up to a year. If you are interested in attending as a guest contact Lee at adaminc@charter.net and she will handle your registration.  Registration is now open. \nLink to Ticket Registration  \nCatering is provided by Subway. If you have any special dietary needs please let us know via email. \nEVENT DETAILS & LINK \nDate: May 13\, 2026 \nTime: 12:00-1:30 PM Central Time (US & Canada) \nLocation: Resource Training & Solutions: 137 23rd St # 201 Sartell\, MN 56377 \nTickets: $25 incl. lunch and beverage. Ticket availability ends Friday\, May 8th\, 2026\, at 5:00 PM. \nThis luncheon is for professionals only.
URL:https://adaminc.org/calendar/may-2026-adhd-professional-guides-luncheon-pgl-the-challenges-of-adhd-in-the-sandwich-generation/
LOCATION:Resource Training & Solutions\, 137 23rd St So #201\, Sartell\, MN\, 56377\, United States
CATEGORIES:Professional
ORGANIZER;CN="Attention Deficit Awareness of Minnesota%2C Inc (A-D-A-M)":MAILTO:adaminc@charter.net
END:VEVENT
END:VCALENDAR