BEGIN:VCALENDAR
VERSION:2.0
PRODID:-//A-D-A-Mˢᴹ - ECPv6.15.20//NONSGML v1.0//EN
CALSCALE:GREGORIAN
METHOD:PUBLISH
X-WR-CALNAME:A-D-A-Mˢᴹ
X-ORIGINAL-URL:https://adaminc.org
X-WR-CALDESC:Events for A-D-A-Mˢᴹ
REFRESH-INTERVAL;VALUE=DURATION:PT1H
X-Robots-Tag:noindex
X-PUBLISHED-TTL:PT1H
BEGIN:VTIMEZONE
TZID:America/Chicago
BEGIN:DAYLIGHT
TZOFFSETFROM:-0600
TZOFFSETTO:-0500
TZNAME:CDT
DTSTART:20250309T080000
END:DAYLIGHT
BEGIN:STANDARD
TZOFFSETFROM:-0500
TZOFFSETTO:-0600
TZNAME:CST
DTSTART:20251102T070000
END:STANDARD
BEGIN:DAYLIGHT
TZOFFSETFROM:-0600
TZOFFSETTO:-0500
TZNAME:CDT
DTSTART:20260308T080000
END:DAYLIGHT
BEGIN:STANDARD
TZOFFSETFROM:-0500
TZOFFSETTO:-0600
TZNAME:CST
DTSTART:20261101T070000
END:STANDARD
BEGIN:DAYLIGHT
TZOFFSETFROM:-0600
TZOFFSETTO:-0500
TZNAME:CDT
DTSTART:20270314T080000
END:DAYLIGHT
BEGIN:STANDARD
TZOFFSETFROM:-0500
TZOFFSETTO:-0600
TZNAME:CST
DTSTART:20271107T070000
END:STANDARD
END:VTIMEZONE
BEGIN:VEVENT
DTSTART;TZID=America/Chicago:20260408T180000
DTEND;TZID=America/Chicago:20260408T193000
DTSTAMP:20260421T114004
CREATED:20260325T194537Z
LAST-MODIFIED:20260325T194537Z
UID:17960-1775671200-1775676600@adaminc.org
SUMMARY:From Self-Criticism to Self-Confidence: Breaking the Cycle of Perfectionism and Imposter Syndrome in ADHD Adults
DESCRIPTION:SAVE THIS DATE! REGISTRATION  NOW OPEN. \nEven if everything goes right many ADHD adults will face difficulty in managing recurring self-doubt that leads to questioning your abilities\, revisit errors\, or make you feel less capable than others. ADHD expert Dr. Sharon Saline explains the way how ADHD\, perfectionism\, sensitivity to exclusion\, and anxiety can drive impostor syndrome as well as repeated bouts of self-criticism. \nDate: Wednesday\, April 8\, 2026\nTime: 7:00 pm – 8:30 pm (EST) – That’s 6:00 pm – 7:30 PM Central\nTarget Audience: ADHD Adults dealing with self-doubt\, perfectionism\, imposter syndrome\, and anxiety. \nRegistration must be done online. \nNOTE: No refunds are available. This webinar will be recorded. Participants will receive access to the replay and all accompanying materials following the event.
URL:https://adaminc.org/calendar/from-self-criticism-to-self-confidence-breaking-the-cycle-of-perfectionism-and-imposter-syndrome-in-adhd-adults/
LOCATION:On Any Device
CATEGORIES:Adult (18-60+ years)
ORGANIZER;CN="Dr. Sharon Saline%2C Psy.D.":MAILTO:https://drsharonsaline.com/contact/
END:VEVENT
END:VCALENDAR