BEGIN:VCALENDAR
VERSION:2.0
PRODID:-//A-D-A-Mˢᴹ - ECPv6.15.20//NONSGML v1.0//EN
CALSCALE:GREGORIAN
METHOD:PUBLISH
X-WR-CALNAME:A-D-A-Mˢᴹ
X-ORIGINAL-URL:https://adaminc.org
X-WR-CALDESC:Events for A-D-A-Mˢᴹ
REFRESH-INTERVAL;VALUE=DURATION:PT1H
X-Robots-Tag:noindex
X-PUBLISHED-TTL:PT1H
BEGIN:VTIMEZONE
TZID:America/Chicago
BEGIN:DAYLIGHT
TZOFFSETFROM:-0600
TZOFFSETTO:-0500
TZNAME:CDT
DTSTART:20240310T080000
END:DAYLIGHT
BEGIN:STANDARD
TZOFFSETFROM:-0500
TZOFFSETTO:-0600
TZNAME:CST
DTSTART:20241103T070000
END:STANDARD
BEGIN:DAYLIGHT
TZOFFSETFROM:-0600
TZOFFSETTO:-0500
TZNAME:CDT
DTSTART:20250309T080000
END:DAYLIGHT
BEGIN:STANDARD
TZOFFSETFROM:-0500
TZOFFSETTO:-0600
TZNAME:CST
DTSTART:20251102T070000
END:STANDARD
BEGIN:DAYLIGHT
TZOFFSETFROM:-0600
TZOFFSETTO:-0500
TZNAME:CDT
DTSTART:20260308T080000
END:DAYLIGHT
BEGIN:STANDARD
TZOFFSETFROM:-0500
TZOFFSETTO:-0600
TZNAME:CST
DTSTART:20261101T070000
END:STANDARD
END:VTIMEZONE
BEGIN:VEVENT
DTSTART;TZID=America/Chicago:20250514T120000
DTEND;TZID=America/Chicago:20250514T130000
DTSTAMP:20260421T213728
CREATED:20250224T205432Z
LAST-MODIFIED:20250224T205432Z
UID:11830-1747224000-1747227600@adaminc.org
SUMMARY:Wither & Tynes: Women with ADHD Can Do Group
DESCRIPTION:Donna Addkison is a certified ADHD in St. Paul\, Minnesota. Her coaching credentials are from the ​ICF Credentialed Coach (PCC)\, PAAC Credentialed Coach (PCAC)\, and ​ADD Coach Academy Certified Coach (ACCG). Donna is also the organizer of the Women with ADHD Can Do Group. This virtual group offers support and resources for women with ADHD\, especially those diagnosed after childhood or who have not been diagnosed with ADHD or AuDHD. There is no fee to register. \nFor a full description of this event and to register click on this link: : https://www.meetup.com/adult-womens-adhd-group/ \nRegistration is now open and must be done online to join the group and attend meetings.
URL:https://adaminc.org/calendar/wither-tynes-women-with-adhd-can-do-group-3-12/
LOCATION:On Any Device
CATEGORIES:Adult (18-60+ years)
ORGANIZER;CN="Wither & Tynes Life and Business Coaching for ADHD Brains":MAILTO:donna@withertynes.com
END:VEVENT
BEGIN:VEVENT
DTSTART;TZID=America/Chicago:20250513T190000
DTEND;TZID=America/Chicago:20250513T203000
DTSTAMP:20260421T213728
CREATED:20250421T194730Z
LAST-MODIFIED:20250421T194730Z
UID:15858-1747162800-1747168200@adaminc.org
SUMMARY:St. Cloud NAMI Family Support Group
DESCRIPTION:Updated 04/21/2025 – Please Note: The Family Support Group meetings have changed the meeting format from Zoom to a new program called Hey Peers. This new program is designed for support group meetings to give participants better security and other upgrades. Support group meetings will continue to be via Hey Peers on the 2nd and 4th Tuesday of each month from 7 pm to 8:30 pm and you must register online.  Please go to their website Home page for further details on the change in the format. The NAMI MN website also has more information on the new format. There is a contact person if you have questions.  The support group meetings are open to family members\, caregivers\, and friends of a person living with mental illness – any diagnosis and any age. \nPlease note: This is not a peer support group for people with a mental illness. \nPLEASE NOTE!  If you are interested in attending another online support group\, NAMI Minnesota is continuing to hold online support groups.  For more information on their group meetings\, please go to: https://namimn.org/support/nami-minnesota-support-groups/
URL:https://adaminc.org/calendar/st-cloud-nami-family-support-group-27/
LOCATION:On Any Device
CATEGORIES:Adult (18-60+ years)
ORGANIZER;CN="NAMI St. Cloud - Family Support Group":MAILTO:Email: fsnamistcloud@gmail.com
END:VEVENT
BEGIN:VEVENT
DTSTART;TZID=America/Chicago:20250508T190000
DTEND;TZID=America/Chicago:20250508T203000
DTSTAMP:20260421T213728
CREATED:20250421T204641Z
LAST-MODIFIED:20250421T204641Z
UID:15882-1746730800-1746736200@adaminc.org
SUMMARY:LDA Minnesota Adult ADHD Support Groups
DESCRIPTION:LDA Minnesota (Learning Disabilities Association of Minnesota) provides services for adults and children who have “learning differences” and ADHD along with providing support for the families and community education.  At this time the offices are open and their programs and services are available online and in-person\, however\, the offices are open only by appointment. You may call or email them for more information or to register for their programs. \nLDA Minnesota offers adults who have ADHD two support group options.  There is a group that meets every Thursday morning from 10:00 am to noon in person and online via Zoom.  The evening group meets on the second and fourth Thursday of each month from 7:00 pm to 8:30 pm online via Zoom.  Please note: The groups are free and are facilitated by trained volunteers.  If you are new and have questions or would like to join a support group meeting please call 952-582-6000 or email info@ldaminnesota.org to receive an invitation to the online meeting.  There is no registration required to attend the meetings. \nPlease Note: LDA Minnesota has moved to a new location. Their offices are open by appointment only at this time.
URL:https://adaminc.org/calendar/lda-minnesota-adult-adhd-support-groups-37/
LOCATION:On Any Device
CATEGORIES:Adult (18-60+ years)
ORGANIZER;CN="LDA Minnesota":MAILTO:info@ldaminnesota.org
END:VEVENT
BEGIN:VEVENT
DTSTART;TZID=America/Chicago:20250508T100000
DTEND;TZID=America/Chicago:20250508T120000
DTSTAMP:20260421T213728
CREATED:20250422T040724Z
LAST-MODIFIED:20250422T041202Z
UID:15898-1746698400-1746705600@adaminc.org
SUMMARY:LDA Minnesota Adult ADHD Support Groups
DESCRIPTION:LDA Minnesota (Learning Disabilities Association of Minnesota) provides services for adults and children who have “learning differences” and ADHD along with providing support for the families and community education.  At this time the offices are open and their programs and services are available online and in-person\, however\, the offices are open only by appointment. You may call or email them for more information or to register for their programs. \nLDA Minnesota offers adults who have ADHD two support group options.  There is a group that meets every Thursday morning from 10:00 am to noon in person and online via Zoom.  The evening group meets on the second and fourth Thursday of each month from 7:00 pm to 8:30 pm online via Zoom.  Please note: The groups are free and are facilitated by trained volunteers.  If you are new and have questions or would like to join a support group meeting please call 952-582-6000 or email info@ldaminnesota.org to receive an invitation to the online meeting.  There is no registration required to attend the meetings. \nPlease Note: LDA Minnesota has moved to a new location. Their offices are open by appointment only at this time. \n 
URL:https://adaminc.org/calendar/lda-minnesota-adult-adhd-support-groups-40/
LOCATION:LDA Minnesota\, 5101 Olson Memorial Highway - Suite 6000\, Golden Valley\, MN\, 55422\, United States
CATEGORIES:Adult (18-60+ years)
ORGANIZER;CN="LDA Minnesota":MAILTO:info@ldaminnesota.org
END:VEVENT
BEGIN:VEVENT
DTSTART;TZID=America/Chicago:20250507T120000
DTEND;TZID=America/Chicago:20250507T130000
DTSTAMP:20260421T213728
CREATED:20250224T205315Z
LAST-MODIFIED:20250224T205315Z
UID:11829-1746619200-1746622800@adaminc.org
SUMMARY:Wither & Tynes: Women with ADHD Can Do Group
DESCRIPTION:Donna Addkison is a certified ADHD in St. Paul\, Minnesota. Her coaching credentials are from the ​ICF Credentialed Coach (PCC)\, PAAC Credentialed Coach (PCAC)\, and ​ADD Coach Academy Certified Coach (ACCG). Donna is also the organizer of the Women with ADHD Can Do Group. This virtual group offers support and resources for women with ADHD\, especially those diagnosed after childhood or who have not been diagnosed with ADHD or AuDHD. There is no fee to register. \nFor a full description of this event and to register click on this link: : https://www.meetup.com/adult-womens-adhd-group/ \nRegistration is now open and must be done online to join the group and attend meetings.
URL:https://adaminc.org/calendar/wither-tynes-women-with-adhd-can-do-group-3-11/
LOCATION:On Any Device
CATEGORIES:Adult (18-60+ years)
ORGANIZER;CN="Wither & Tynes Life and Business Coaching for ADHD Brains":MAILTO:donna@withertynes.com
END:VEVENT
BEGIN:VEVENT
DTSTART;TZID=America/Chicago:20250501T100000
DTEND;TZID=America/Chicago:20250501T120000
DTSTAMP:20260421T213728
CREATED:20250422T035859Z
LAST-MODIFIED:20250422T035859Z
UID:15890-1746093600-1746100800@adaminc.org
SUMMARY:LDA Minnesota Adult ADHD Support Groups
DESCRIPTION:LDA Minnesota (Learning Disabilities Association of Minnesota) provides services for adults and children who have “learning differences” and ADHD along with providing support for the families and community education.  At this time the offices are open and their programs and services are available online and in-person\, however\, the offices are open only by appointment. You may call or email them for more information or to register for their programs. \nLDA Minnesota offers adults who have ADHD two support group options.  There is a group that meets every Thursday morning from 10:00 am to noon in person and online via Zoom.  The evening group meets on the second and fourth Thursday of each month from 7:00 pm to 8:30 pm online via Zoom.  Please note: The groups are free and are facilitated by trained volunteers.  If you are new and have questions or would like to join a support group meeting please call 952-582-6000 or email info@ldaminnesota.org to receive an invitation to the online meeting.  There is no registration required to attend the meetings. \nPlease Note: LDA Minnesota has moved to a new location. Their offices are open by appointment only at this time.
URL:https://adaminc.org/calendar/lda-minnesota-adult-adhd-support-groups-39/
LOCATION:LDA Minnesota\, 5101 Olson Memorial Highway - Suite 6000\, Golden Valley\, MN\, 55422\, United States
CATEGORIES:Adult (18-60+ years)
ORGANIZER;CN="LDA Minnesota":MAILTO:info@ldaminnesota.org
END:VEVENT
BEGIN:VEVENT
DTSTART;TZID=America/Chicago:20250430T120000
DTEND;TZID=America/Chicago:20250430T130000
DTSTAMP:20260421T213728
CREATED:20250224T205207Z
LAST-MODIFIED:20250224T205207Z
UID:11814-1746014400-1746018000@adaminc.org
SUMMARY:Wither & Tynes: Women with ADHD Can Do Group
DESCRIPTION:Donna Addkison is a certified ADHD in St. Paul\, Minnesota. Her coaching credentials are from the ​ICF Credentialed Coach (PCC)\, PAAC Credentialed Coach (PCAC)\, and ​ADD Coach Academy Certified Coach (ACCG). Donna is also the organizer of the Women with ADHD Can Do Group. This virtual group offers support and resources for women with ADHD\, especially those diagnosed after childhood or who have not been diagnosed with ADHD or AuDHD. There is no fee to register. \nFor a full description of this event and to register click on this link: : https://www.meetup.com/adult-womens-adhd-group/ \nRegistration is now open and must be done online to join the group and attend meetings.
URL:https://adaminc.org/calendar/wither-tynes-women-with-adhd-can-do-group-3-10/
LOCATION:On Any Device
CATEGORIES:Adult (18-60+ years)
ORGANIZER;CN="Wither & Tynes Life and Business Coaching for ADHD Brains":MAILTO:donna@withertynes.com
END:VEVENT
BEGIN:VEVENT
DTSTART;TZID=America/Chicago:20250424T190000
DTEND;TZID=America/Chicago:20250424T203000
DTSTAMP:20260421T213728
CREATED:20250421T203930Z
LAST-MODIFIED:20250421T203930Z
UID:15878-1745521200-1745526600@adaminc.org
SUMMARY:LDA Minnesota Adult ADHD Support Groups
DESCRIPTION:LDA Minnesota (Learning Disabilities Association of Minnesota) provides services for adults and children who have “learning differences” and ADHD along with providing support for the families and community education.  At this time the offices are open and their programs and services are available online and in-person\, however\, the offices are open only by appointment. You may call or email them for more information or to register for their programs. \nLDA Minnesota offers adults who have ADHD two support group options.  There is a group that meets every Thursday morning from 10:00 am to noon in person and online via Zoom.  The evening group meets on the second and fourth Thursday of each month from 7:00 pm to 8:30 pm online via Zoom.  Please note: The groups are free and are facilitated by trained volunteers.  If you are new and have questions or would like to join a support group meeting please call 952-582-6000 or email info@ldaminnesota.org to receive an invitation to the online meeting.  There is no registration required to attend the meetings. \nPlease Note: LDA Minnesota has moved to a new location. Their offices are open by appointment only at this time.
URL:https://adaminc.org/calendar/lda-minnesota-adult-adhd-support-groups-36/
LOCATION:On Any Device
CATEGORIES:Adult (18-60+ years)
ORGANIZER;CN="LDA Minnesota":MAILTO:info@ldaminnesota.org
END:VEVENT
BEGIN:VEVENT
DTSTART;TZID=America/Chicago:20250424T100000
DTEND;TZID=America/Chicago:20250424T120000
DTSTAMP:20260421T213728
CREATED:20250421T203126Z
LAST-MODIFIED:20250422T050343Z
UID:15874-1745488800-1745496000@adaminc.org
SUMMARY:LDA Minnesota Adult ADHD Support Groups
DESCRIPTION:LDA Minnesota (Learning Disabilities Association of Minnesota) provides services for adults and children who have “learning differences” and ADHD along with providing support for the families and community education.  At this time the offices are open and their programs and services are available online and in-person\, however\, the offices are open only by appointment. You may call or email them for more information or to register for their programs. \nLDA Minnesota offers adults who have ADHD two support group options.  There is a group that meets every Thursday morning from 10:00 am to noon in person and online via Zoom.  The evening group meets on the second and fourth Thursday of each month from 7:00 pm to 8:30 pm online via Zoom.  Please note: The groups are free and are facilitated by trained volunteers.  If you are new and have questions or would like to join a support group meeting please call 952-582-6000 or email info@ldaminnesota.org to receive an invitation to the online meeting.  There is no registration required to attend the meetings. \nPlease Note: LDA Minnesota has moved to a new location. Their offices are open by appointment only at this time.
URL:https://adaminc.org/calendar/lda-minnesota-adult-adhd-support-group-3/
LOCATION:LDA Minnesota\, 5101 Olson Memorial Highway - Suite 6000\, Golden Valley\, MN\, 55422\, United States
CATEGORIES:Adult (18-60+ years)
ORGANIZER;CN="LDA Minnesota":MAILTO:info@ldaminnesota.org
END:VEVENT
BEGIN:VEVENT
DTSTART;TZID=America/Chicago:20250423T120000
DTEND;TZID=America/Chicago:20250423T130000
DTSTAMP:20260421T213728
CREATED:20250224T205041Z
LAST-MODIFIED:20250224T205041Z
UID:11813-1745409600-1745413200@adaminc.org
SUMMARY:Wither & Tynes: Women with ADHD Can Do Group
DESCRIPTION:Donna Addkison is a certified ADHD in St. Paul\, Minnesota. Her coaching credentials are from the ​ICF Credentialed Coach (PCC)\, PAAC Credentialed Coach (PCAC)\, and ​ADD Coach Academy Certified Coach (ACCG). Donna is also the organizer of the Women with ADHD Can Do Group. This virtual group offers support and resources for women with ADHD\, especially those diagnosed after childhood or who have not been diagnosed with ADHD or AuDHD. There is no fee to register. \nFor a full description of this event and to register click on this link: : https://www.meetup.com/adult-womens-adhd-group/ \nRegistration is now open and must be done online to join the group and attend meetings.
URL:https://adaminc.org/calendar/wither-tynes-women-with-adhd-can-do-group-3-9/
LOCATION:On Any Device
CATEGORIES:Adult (18-60+ years)
ORGANIZER;CN="Wither & Tynes Life and Business Coaching for ADHD Brains":MAILTO:donna@withertynes.com
END:VEVENT
BEGIN:VEVENT
DTSTART;TZID=America/Chicago:20250422T190000
DTEND;TZID=America/Chicago:20250422T203000
DTSTAMP:20260421T213728
CREATED:20250421T194115Z
LAST-MODIFIED:20250421T194115Z
UID:15854-1745348400-1745353800@adaminc.org
SUMMARY:St. Cloud NAMI Family Support Group
DESCRIPTION:Updated 04/21/2025 – Please Note: The Family Support Group meetings have changed the meeting format from Zoom to a new program called Hey Peers. This new program is designed for support group meetings to give participants better security and other upgrades. Support group meetings will continue to be via Hey Peers on the 2nd and 4th Tuesday of each month from 7 pm to 8:30 pm and you must register online.  Please go to their website Home page for further details on the change in the format. The NAMI MN website also has more information on the new format. There is a contact person if you have questions.  The support group meetings are open to family members\, caregivers\, and friends of a person living with mental illness – any diagnosis and any age. \nPlease note: This is not a peer support group for people with a mental illness. \nPLEASE NOTE!  If you are interested in attending another online support group\, NAMI Minnesota is continuing to hold online support groups.  For more information on their group meetings\, please go to: https://namimn.org/support/nami-minnesota-support-groups/ \n\n\n\n\n Add to calendar
URL:https://adaminc.org/calendar/st-cloud-nami-family-support-group-26/
LOCATION:On Any Device
CATEGORIES:Adult (18-60+ years)
ORGANIZER;CN="NAMI St. Cloud - Family Support Group":MAILTO:Email: fsnamistcloud@gmail.com
END:VEVENT
END:VCALENDAR