BEGIN:VCALENDAR
VERSION:2.0
PRODID:-//A-D-A-Mˢᴹ - ECPv6.15.20//NONSGML v1.0//EN
CALSCALE:GREGORIAN
METHOD:PUBLISH
X-ORIGINAL-URL:https://adaminc.org
X-WR-CALDESC:Events for A-D-A-Mˢᴹ
REFRESH-INTERVAL;VALUE=DURATION:PT1H
X-Robots-Tag:noindex
X-PUBLISHED-TTL:PT1H
BEGIN:VTIMEZONE
TZID:America/Chicago
BEGIN:DAYLIGHT
TZOFFSETFROM:-0600
TZOFFSETTO:-0500
TZNAME:CDT
DTSTART:20250309T080000
END:DAYLIGHT
BEGIN:STANDARD
TZOFFSETFROM:-0500
TZOFFSETTO:-0600
TZNAME:CST
DTSTART:20251102T070000
END:STANDARD
BEGIN:DAYLIGHT
TZOFFSETFROM:-0600
TZOFFSETTO:-0500
TZNAME:CDT
DTSTART:20260308T080000
END:DAYLIGHT
BEGIN:STANDARD
TZOFFSETFROM:-0500
TZOFFSETTO:-0600
TZNAME:CST
DTSTART:20261101T070000
END:STANDARD
BEGIN:DAYLIGHT
TZOFFSETFROM:-0600
TZOFFSETTO:-0500
TZNAME:CDT
DTSTART:20270314T080000
END:DAYLIGHT
BEGIN:STANDARD
TZOFFSETFROM:-0500
TZOFFSETTO:-0600
TZNAME:CST
DTSTART:20271107T070000
END:STANDARD
END:VTIMEZONE
BEGIN:VEVENT
DTSTART;TZID=America/Chicago:20260204T130000
DTEND;TZID=America/Chicago:20260204T140000
DTSTAMP:20260424T102355
CREATED:20260201T020331Z
LAST-MODIFIED:20260201T020331Z
UID:17316-1770210000-1770213600@adaminc.org
SUMMARY:CHADD Webinar Ask the Expert: Using Cultural Humility to Engage Black Families About ADHD
DESCRIPTION:CHADD (Children and Adults with Attention-Deficit/Hyperactivity Disorder) was established in 1987 as a way for parents and their children to not feel so isolated in dealing with their ADHD.  Today it is a respected national and international ADHD organization that provides many forms of ADHD education and support which is available to all who live with ADHD\, their families and friends\, employers\, and professionals in health care\, mental health care\, and education. \nFree webinars are one of the many educational resources you can sign up for.  All registration is done online. \nThe speaker for this presentation will be Joy Banks\, PhD who is an associate professor of special education and disability research at George Mason University. Dr. Banks will show teachers and school administrators how they can build positive and productive partnerships with families of Black children who have ADHD. She will use real-life situations to show the participants how to accomplish a working relationship for the family and the student. \nGo to https://chadd.org/ask-the-expert/ to view dates and topics of Future Webinars and to check out CHADD’s Past Webinar Archive.
URL:https://adaminc.org/calendar/chadd-webinar-ask-the-expert-using-cultural-humility-to-engage-black-families-about-adhd/
LOCATION:On Any Device
CATEGORIES:All
END:VEVENT
END:VCALENDAR