BEGIN:VCALENDAR
VERSION:2.0
PRODID:-//A-D-A-Mˢᴹ - ECPv6.15.20//NONSGML v1.0//EN
CALSCALE:GREGORIAN
METHOD:PUBLISH
X-WR-CALNAME:A-D-A-Mˢᴹ
X-ORIGINAL-URL:https://adaminc.org
X-WR-CALDESC:Events for A-D-A-Mˢᴹ
REFRESH-INTERVAL;VALUE=DURATION:PT1H
X-Robots-Tag:noindex
X-PUBLISHED-TTL:PT1H
BEGIN:VTIMEZONE
TZID:America/Chicago
BEGIN:DAYLIGHT
TZOFFSETFROM:-0600
TZOFFSETTO:-0500
TZNAME:CDT
DTSTART:20250309T080000
END:DAYLIGHT
BEGIN:STANDARD
TZOFFSETFROM:-0500
TZOFFSETTO:-0600
TZNAME:CST
DTSTART:20251102T070000
END:STANDARD
BEGIN:DAYLIGHT
TZOFFSETFROM:-0600
TZOFFSETTO:-0500
TZNAME:CDT
DTSTART:20260308T080000
END:DAYLIGHT
BEGIN:STANDARD
TZOFFSETFROM:-0500
TZOFFSETTO:-0600
TZNAME:CST
DTSTART:20261101T070000
END:STANDARD
BEGIN:DAYLIGHT
TZOFFSETFROM:-0600
TZOFFSETTO:-0500
TZNAME:CDT
DTSTART:20270314T080000
END:DAYLIGHT
BEGIN:STANDARD
TZOFFSETFROM:-0500
TZOFFSETTO:-0600
TZNAME:CST
DTSTART:20271107T070000
END:STANDARD
END:VTIMEZONE
BEGIN:VEVENT
DTSTART;TZID=America/Chicago:20260211T120000
DTEND;TZID=America/Chicago:20260211T130000
DTSTAMP:20260424T083446
CREATED:20260201T025047Z
LAST-MODIFIED:20260201T025047Z
UID:17333-1770811200-1770814800@adaminc.org
SUMMARY:ADDitude Live Webinar: Two-Part Series. Part One: How Your Circadian Rhythm Shapes Energy\, Focus\, Productivity and Cognitive Functioning
DESCRIPTION:ADDitudeMag.com is a national ADHD organization that offers free webinars on ADHD and the many related issues. You can go to their website for a description of the workshop and details about the presenter. Registration is done online. Please note that the webinars are scheduled for Eastern Standard Time. If you can’t watch the webinar at its scheduled time you may still register and ADDitude will send you the link to the webinar after the 02/11/2026 presentation and you will be able to watch it at your convenience.\n\nThis webinar will be streamed at 1:00 pm EDT (that’s 12:00 pm our time) and lasts for one hour. The speaker for this webinar will be Jamie M. Zeitzer\, PhD\, who is a Professor of Psychiatry and Behavioral Sciences and the Co-Chair of the Center for Sleep and Circadian Sciences at Stanford University. Dr. Zeitzer has authored more than 150 peer-reviewed publications. Getting a good night’s sleep is a challenge for many who have ADHD. Dr. Zeitzer will explain the latest research on circadian rhythm and how it is different in those with ADHD\, examples of sleep problems\, the effects of disrupted circadian rhythms in adults when at work or at school\, and the solutions to these sleep problems. \nPlease Note: ADDitude now offers certificates of attendance which you may purchase for $10 when you participate in an ADDitude webinar live or listen to the replay.  These instructions will be available when you register online for the webinar or after you receive the replay.  ADDitude does not offer CEU credits.   \nGo to https://www.additudemag.com/adhd-expert-webinars-index/ to view dates and topics of Future Webinars and to check out the Past Webinar / Podcast ADDitude Archive. \nClosed captions available.
URL:https://adaminc.org/calendar/additude-live-webinar-two-part-series-part-one-how-your-circadian-rhythm-shapes-energy-focus-productivity-and-cognitive-functioning/
LOCATION:On Any Device
CATEGORIES:All
END:VEVENT
END:VCALENDAR