BEGIN:VCALENDAR
VERSION:2.0
PRODID:-//A-D-A-Mˢᴹ - ECPv6.15.20//NONSGML v1.0//EN
CALSCALE:GREGORIAN
METHOD:PUBLISH
X-WR-CALNAME:A-D-A-Mˢᴹ
X-ORIGINAL-URL:https://adaminc.org
X-WR-CALDESC:Events for A-D-A-Mˢᴹ
REFRESH-INTERVAL;VALUE=DURATION:PT1H
X-Robots-Tag:noindex
X-PUBLISHED-TTL:PT1H
BEGIN:VTIMEZONE
TZID:America/Chicago
BEGIN:DAYLIGHT
TZOFFSETFROM:-0600
TZOFFSETTO:-0500
TZNAME:CDT
DTSTART:20250309T080000
END:DAYLIGHT
BEGIN:STANDARD
TZOFFSETFROM:-0500
TZOFFSETTO:-0600
TZNAME:CST
DTSTART:20251102T070000
END:STANDARD
BEGIN:DAYLIGHT
TZOFFSETFROM:-0600
TZOFFSETTO:-0500
TZNAME:CDT
DTSTART:20260308T080000
END:DAYLIGHT
BEGIN:STANDARD
TZOFFSETFROM:-0500
TZOFFSETTO:-0600
TZNAME:CST
DTSTART:20261101T070000
END:STANDARD
BEGIN:DAYLIGHT
TZOFFSETFROM:-0600
TZOFFSETTO:-0500
TZNAME:CDT
DTSTART:20270314T080000
END:DAYLIGHT
BEGIN:STANDARD
TZOFFSETFROM:-0500
TZOFFSETTO:-0600
TZNAME:CST
DTSTART:20271107T070000
END:STANDARD
END:VTIMEZONE
BEGIN:VEVENT
DTSTART;TZID=America/Chicago:20260311T110000
DTEND;TZID=America/Chicago:20260311T120000
DTSTAMP:20260424T083611
CREATED:20260205T220646Z
LAST-MODIFIED:20260205T220900Z
UID:17538-1773226800-1773230400@adaminc.org
SUMMARY:Anxiety and Depression Association of America (ADAA): Live Q&A with Author Jennifer Caspari\, PhD
DESCRIPTION:Anxiety and Depression of America (ADAA) began with a phobia meeting in 1978 in White Plains\, New York. Anxiety disorders are the most common mental health disorder and is one of the most treatable. ADDA has been working to improve research\, education\, and treatment to find the cure for anxiety disorders and depression for the past 40 years. Registration is done online. \nThe speaker for this event will be Jennifer Caspari\, PhD\, who is an Associate Psychologist and works at Cognitive Behavior Therapy Associates of Denver. Dr. Caspari’s specialty area is providing evidenced-based psychotherapies to those who have acute and chronic health challenges. She will discuss her book You Are More Than Your Body and speaks from professional and lived experiences. Participants will learn how to respond to difficult challenges with self-compassion\, how to build emotional resilience\, and reconnect with better awareness. \nPlease note this event is not eligible for CEHs.
URL:https://adaminc.org/calendar/anxiety-and-depression-association-of-america-adaa-live-qa-with-author-jennifer-caspari-phd/
LOCATION:On Any Device
CATEGORIES:All
ORGANIZER;CN="Anxiety and Depression Association of America (ADAA)":MAILTO:information@adaa.org
END:VEVENT
END:VCALENDAR