BEGIN:VCALENDAR
VERSION:2.0
PRODID:-//A-D-A-Mˢᴹ - ECPv6.15.20//NONSGML v1.0//EN
CALSCALE:GREGORIAN
METHOD:PUBLISH
X-WR-CALNAME:A-D-A-Mˢᴹ
X-ORIGINAL-URL:https://adaminc.org
X-WR-CALDESC:Events for A-D-A-Mˢᴹ
REFRESH-INTERVAL;VALUE=DURATION:PT1H
X-Robots-Tag:noindex
X-PUBLISHED-TTL:PT1H
BEGIN:VTIMEZONE
TZID:America/Chicago
BEGIN:DAYLIGHT
TZOFFSETFROM:-0600
TZOFFSETTO:-0500
TZNAME:CDT
DTSTART:20250309T080000
END:DAYLIGHT
BEGIN:STANDARD
TZOFFSETFROM:-0500
TZOFFSETTO:-0600
TZNAME:CST
DTSTART:20251102T070000
END:STANDARD
BEGIN:DAYLIGHT
TZOFFSETFROM:-0600
TZOFFSETTO:-0500
TZNAME:CDT
DTSTART:20260308T080000
END:DAYLIGHT
BEGIN:STANDARD
TZOFFSETFROM:-0500
TZOFFSETTO:-0600
TZNAME:CST
DTSTART:20261101T070000
END:STANDARD
BEGIN:DAYLIGHT
TZOFFSETFROM:-0600
TZOFFSETTO:-0500
TZNAME:CDT
DTSTART:20270314T080000
END:DAYLIGHT
BEGIN:STANDARD
TZOFFSETFROM:-0500
TZOFFSETTO:-0600
TZNAME:CST
DTSTART:20271107T070000
END:STANDARD
END:VTIMEZONE
BEGIN:VEVENT
DTSTART;TZID=America/Chicago:20260323T120000
DTEND;TZID=America/Chicago:20260323T130000
DTSTAMP:20260424T044629
CREATED:20260319T175539Z
LAST-MODIFIED:20260319T175631Z
UID:17840-1774267200-1774270800@adaminc.org
SUMMARY:MACMH's Children's Mental Health on Demand Trainings - Pop-up: Sensory-Based Regulation Strategies for the Classroom
DESCRIPTION:Minnesota Association for Children’s Mental Health\, also known as MACMH\, was founded in 1989.  The organization is a nonprofit that works “to promote positive mental health for all infants\, children\, adolescents\, and their families”.  They provide a wide variety of services and you can read more about their goals and services on their website. \nThe speaker for this virtual workshop will be Alyssa Mason who is an Occupational Therapist at M Health Fairview. She will speak on how to increase regulation for students in the classroom who are experiencing stress\, trauma\, or uncertainty. Participants will learn strategies that can be applied in group settings and the strategies may also help families and other service providers and caregivers. Check out the website listing for full details. \nParticipants of the Pop-up Training will receive a certificate of attendance. For an official CE approval the participant will need to submit to their respective board directly.
URL:https://adaminc.org/calendar/macmhs-childrens-mental-health-on-demand-trainings-pop-up-sensory-based-regulation-strategies-for-the-classroom/
LOCATION:On Any Device
CATEGORIES:All
ORGANIZER;CN="Minnesota Association for Children's Mental Health (MACMH)":MAILTO:info@macmh.org
END:VEVENT
END:VCALENDAR