BEGIN:VCALENDAR
VERSION:2.0
PRODID:-//A-D-A-Mˢᴹ - ECPv6.15.20//NONSGML v1.0//EN
CALSCALE:GREGORIAN
METHOD:PUBLISH
X-WR-CALNAME:A-D-A-Mˢᴹ
X-ORIGINAL-URL:https://adaminc.org
X-WR-CALDESC:Events for A-D-A-Mˢᴹ
REFRESH-INTERVAL;VALUE=DURATION:PT1H
X-Robots-Tag:noindex
X-PUBLISHED-TTL:PT1H
BEGIN:VTIMEZONE
TZID:America/Chicago
BEGIN:DAYLIGHT
TZOFFSETFROM:-0600
TZOFFSETTO:-0500
TZNAME:CDT
DTSTART:20250309T080000
END:DAYLIGHT
BEGIN:STANDARD
TZOFFSETFROM:-0500
TZOFFSETTO:-0600
TZNAME:CST
DTSTART:20251102T070000
END:STANDARD
BEGIN:DAYLIGHT
TZOFFSETFROM:-0600
TZOFFSETTO:-0500
TZNAME:CDT
DTSTART:20260308T080000
END:DAYLIGHT
BEGIN:STANDARD
TZOFFSETFROM:-0500
TZOFFSETTO:-0600
TZNAME:CST
DTSTART:20261101T070000
END:STANDARD
BEGIN:DAYLIGHT
TZOFFSETFROM:-0600
TZOFFSETTO:-0500
TZNAME:CDT
DTSTART:20270314T080000
END:DAYLIGHT
BEGIN:STANDARD
TZOFFSETFROM:-0500
TZOFFSETTO:-0600
TZNAME:CST
DTSTART:20271107T070000
END:STANDARD
END:VTIMEZONE
BEGIN:VEVENT
DTSTART;TZID=America/Chicago:20260312T183000
DTEND;TZID=America/Chicago:20260312T200000
DTSTAMP:20260420T005801
CREATED:20260201T052610Z
LAST-MODIFIED:20260201T052610Z
UID:17398-1773340200-1773345600@adaminc.org
SUMMARY:Groves Learning Organization Event: Charting Your Path: Connecting Passions to Future Possibilities
DESCRIPTION:Groves Learning Organization (GLO) is a nonprofit educational organization where students who have different learning difficulties and attention disorders can go to school to learn and thrive.  Groves Academy\, located in St. Louis Park\, Minnesota\, is the leading school in the Midwest where they teach students who have dyslexia\, ADHD\, executive function difficulties\, and other language-based learning disabilities in grades 1-12. They offer webinars and in-person events for the community and families through their GLO Education Series. Registration is done online and the events are free. \nThis in-person event is designed for high school students and their families. The speaker will be Clare Roney who is a Career and Postsecondary Coach who helps teens and their parents learn skills to help them determine their interests and strengths to future careers and postsecondary learning and opportunities.
URL:https://adaminc.org/calendar/groves-learning-organization-event-charting-your-path-connecting-passions-to-future-possibilities/
LOCATION:Groves Learning Organization\, 3200 Highway 100 South\, St. Louis Park\, MN\, 55416\, United States
CATEGORIES:Teenager (13-17)
END:VEVENT
END:VCALENDAR