BEGIN:VCALENDAR
VERSION:2.0
PRODID:-//A-D-A-Mˢᴹ - ECPv6.15.20//NONSGML v1.0//EN
CALSCALE:GREGORIAN
METHOD:PUBLISH
X-ORIGINAL-URL:https://adaminc.org
X-WR-CALDESC:Events for A-D-A-Mˢᴹ
REFRESH-INTERVAL;VALUE=DURATION:PT1H
X-Robots-Tag:noindex
X-PUBLISHED-TTL:PT1H
BEGIN:VTIMEZONE
TZID:America/Chicago
BEGIN:DAYLIGHT
TZOFFSETFROM:-0600
TZOFFSETTO:-0500
TZNAME:CDT
DTSTART:20250309T080000
END:DAYLIGHT
BEGIN:STANDARD
TZOFFSETFROM:-0500
TZOFFSETTO:-0600
TZNAME:CST
DTSTART:20251102T070000
END:STANDARD
BEGIN:DAYLIGHT
TZOFFSETFROM:-0600
TZOFFSETTO:-0500
TZNAME:CDT
DTSTART:20260308T080000
END:DAYLIGHT
BEGIN:STANDARD
TZOFFSETFROM:-0500
TZOFFSETTO:-0600
TZNAME:CST
DTSTART:20261101T070000
END:STANDARD
BEGIN:DAYLIGHT
TZOFFSETFROM:-0600
TZOFFSETTO:-0500
TZNAME:CDT
DTSTART:20270314T080000
END:DAYLIGHT
BEGIN:STANDARD
TZOFFSETFROM:-0500
TZOFFSETTO:-0600
TZNAME:CST
DTSTART:20271107T070000
END:STANDARD
END:VTIMEZONE
BEGIN:VEVENT
DTSTART;TZID=America/Chicago:20260514T100000
DTEND;TZID=America/Chicago:20260514T120000
DTSTAMP:20260419T184126
CREATED:20260319T014139Z
LAST-MODIFIED:20260319T014139Z
UID:17808-1778752800-1778760000@adaminc.org
SUMMARY:LDA Minnesota Adult ADHD Support Groups
DESCRIPTION:LDA Minnesota (Learning Disabilities Association of Minnesota) provides services for adults and children who have “learning differences” and ADHD along with providing support for the families and community education.  At this time the offices are open and their programs and services are available online and in-person\, however\, the offices are open only by appointment. You may call or email them for more information or to register for their programs. \n\nLDA Minnesota offers adults who have ADHD two support group options.  There is a group that meets every Thursday morning from 10:00 am to noon in person and online via Zoom.  The evening group meets on the first and third Thursday of each month from 7:00 pm to 8:30 pm online via Zoom.  Please note: The groups are free and are facilitated by trained volunteers.  If you are new and have questions or would like to join a support group meeting please call 952-582-6000 or email info@ldaminnesota.org to receive an invitation to the online meeting.  There is no registration required to attend the meetings. \nPlease Note: LDA Minnesota has moved to a new location: 5101 Olson Memorial Highway\, Suite 6000\, Golden Valley\, MN 55422. Their offices are open by appointment only at this time.
URL:https://adaminc.org/calendar/lda-minnesota-adult-adhd-support-groups-17/
LOCATION:LDA Minnesota\, 5101 Olson Memorial Highway - Suite 6000\, Golden Valley\, MN\, 55422\, United States
CATEGORIES:Adult (18-60+ years)
ORGANIZER;CN="LDA Minnesota":MAILTO:info@ldaminnesota.org
END:VEVENT
BEGIN:VEVENT
DTSTART;TZID=America/Chicago:20260521T100000
DTEND;TZID=America/Chicago:20260521T120000
DTSTAMP:20260419T184126
CREATED:20260319T014431Z
LAST-MODIFIED:20260319T014431Z
UID:17812-1779357600-1779364800@adaminc.org
SUMMARY:LDA Minnesota Adult ADHD Support Groups
DESCRIPTION:LDA Minnesota (Learning Disabilities Association of Minnesota) provides services for adults and children who have “learning differences” and ADHD along with providing support for the families and community education.  At this time the offices are open and their programs and services are available online and in-person\, however\, the offices are open only by appointment. You may call or email them for more information or to register for their programs. \n\nLDA Minnesota offers adults who have ADHD two support group options.  There is a group that meets every Thursday morning from 10:00 am to noon in person and online via Zoom.  The evening group meets on the first and third Thursday of each month from 7:00 pm to 8:30 pm online via Zoom.  Please note: The groups are free and are facilitated by trained volunteers.  If you are new and have questions or would like to join a support group meeting please call 952-582-6000 or email info@ldaminnesota.org to receive an invitation to the online meeting.  There is no registration required to attend the meetings. \nPlease Note: LDA Minnesota has moved to a new location: 5101 Olson Memorial Highway\, Suite 6000\, Golden Valley\, MN 55422. Their offices are open by appointment only at this time.
URL:https://adaminc.org/calendar/lda-minnesota-adult-adhd-support-groups-18/
LOCATION:LDA Minnesota\, 5101 Olson Memorial Highway - Suite 6000\, Golden Valley\, MN\, 55422\, United States
CATEGORIES:Adult (18-60+ years)
ORGANIZER;CN="LDA Minnesota":MAILTO:info@ldaminnesota.org
END:VEVENT
BEGIN:VEVENT
DTSTART;TZID=America/Chicago:20260521T190000
DTEND;TZID=America/Chicago:20260521T203000
DTSTAMP:20260419T184126
CREATED:20260319T013438Z
LAST-MODIFIED:20260319T013438Z
UID:17800-1779390000-1779395400@adaminc.org
SUMMARY:LDA Minnesota Adult ADHD Support Groups
DESCRIPTION:LDA Minnesota (Learning Disabilities Association of Minnesota) provides services for adults and children who have “learning differences” and ADHD along with providing support for the families and community education.  At this time the offices are open and their programs and services are available online and in-person\, however\, the offices are open only by appointment. You may call or email them for more information or to register for their programs. \n\nLDA Minnesota offers adults who have ADHD two support group options.  There is a group that meets every Thursday morning from 10:00 am to noon in person and online via Zoom.  The evening group meets on the first and third Thursday of each month from 7:00 pm to 8:30 pm online via Zoom.  Please note: The groups are free and are facilitated by trained volunteers.  If you are new and have questions or would like to join a support group meeting please call 952-582-6000 or email info@ldaminnesota.org to receive an invitation to the online meeting.  There is no registration required to attend the meetings. \nPlease Note: LDA Minnesota has moved to a new location: 5101 Olson Memorial Highway\, Suite 6000\, Golden Valley\, MN 55422. Their offices are open by appointment only at this time.
URL:https://adaminc.org/calendar/lda-minnesota-adult-adhd-support-groups-15/
LOCATION:On Any Device
CATEGORIES:Adult (18-60+ years)
ORGANIZER;CN="LDA Minnesota":MAILTO:info@ldaminnesota.org
END:VEVENT
BEGIN:VEVENT
DTSTART;TZID=America/Chicago:20260526T190000
DTEND;TZID=America/Chicago:20260526T203000
DTSTAMP:20260419T184126
CREATED:20260319T010527Z
LAST-MODIFIED:20260319T010527Z
UID:17779-1779822000-1779827400@adaminc.org
SUMMARY:St. Cloud NAMI Family Support Group
DESCRIPTION:Updated 03/18/2026 – Please Note: The Family Support Group meetings have changed the meeting format from Zoom to a new program called Hey Peers. This new program is designed for support group meetings to give participants better security and other upgrades. Support group meetings will continue to be via Hey Peers on the 2nd and 4th Tuesday of each month from 7 pm to 8:30 pm and you must register online.  Please go to their website Home page for further details on the change in the format. The NAMI MN website also has more information on the new format. There is a contact person if you have questions.  The support group meetings are open to family members\, caregivers\, and friends of a person living with mental illness – any diagnosis and any age. \nPlease note: This is not a peer support group for people with a mental illness. \nPLEASE NOTE!  If you are interested in attending another online support group\, NAMI Minnesota is continuing to hold online support groups.  For more information on their group meetings\, please go to: https://namimn.org/support/nami-minnesota-support-groups/
URL:https://adaminc.org/calendar/st-cloud-nami-family-support-group-9/
LOCATION:On Any Device
CATEGORIES:Adult (18-60+ years)
ORGANIZER;CN="NAMI St. Cloud - Family Support Group":MAILTO:Email: fsnamistcloud@gmail.com
END:VEVENT
BEGIN:VEVENT
DTSTART;TZID=America/Chicago:20260528T100000
DTEND;TZID=America/Chicago:20260528T120000
DTSTAMP:20260419T184126
CREATED:20260319T014711Z
LAST-MODIFIED:20260319T014711Z
UID:17816-1779962400-1779969600@adaminc.org
SUMMARY:LDA Minnesota Adult ADHD Support Groups
DESCRIPTION:LDA Minnesota (Learning Disabilities Association of Minnesota) provides services for adults and children who have “learning differences” and ADHD along with providing support for the families and community education.  At this time the offices are open and their programs and services are available online and in-person\, however\, the offices are open only by appointment. You may call or email them for more information or to register for their programs. \n\nLDA Minnesota offers adults who have ADHD two support group options.  There is a group that meets every Thursday morning from 10:00 am to noon in person and online via Zoom.  The evening group meets on the first and third Thursday of each month from 7:00 pm to 8:30 pm online via Zoom.  Please note: The groups are free and are facilitated by trained volunteers.  If you are new and have questions or would like to join a support group meeting please call 952-582-6000 or email info@ldaminnesota.org to receive an invitation to the online meeting.  There is no registration required to attend the meetings. \nPlease Note: LDA Minnesota has moved to a new location: 5101 Olson Memorial Highway\, Suite 6000\, Golden Valley\, MN 55422. Their offices are open by appointment only at this time.
URL:https://adaminc.org/calendar/lda-minnesota-adult-adhd-support-groups-19/
LOCATION:LDA Minnesota\, 5101 Olson Memorial Highway - Suite 6000\, Golden Valley\, MN\, 55422\, United States
CATEGORIES:Adult (18-60+ years)
ORGANIZER;CN="LDA Minnesota":MAILTO:info@ldaminnesota.org
END:VEVENT
END:VCALENDAR